BEGIN:VCALENDAR
VERSION:2.0
CALSCALE:GREGORIAN
METHOD:PUBLISH
PRODID:-//CSMusic.cz//Akce//EN
BEGIN:VEVENT
UID:akce_69eb731e937c84.49964633
DTSTAMP:20260424T154150
DTSTART:20240424T000000
DTEND:20240424T000000
SUMMARY:MIG 21 – Jaro 2024 - Praha
LOCATION:Lucerna Music Bar, Praha
DESCRIPTION:MIG 21 – Jaro 2024 - Praha - Lucerna Music Bar, Praha
END:VEVENT
END:VCALENDAR