BEGIN:VCALENDAR
VERSION:2.0
CALSCALE:GREGORIAN
METHOD:PUBLISH
PRODID:-//CSMusic.cz//Akce//EN
BEGIN:VEVENT
UID:akce_69ebf585e972f3.03186900
DTSTAMP:20260425T005813
DTSTART:20241016T000000
DTEND:20241016T000000
SUMMARY:Honza Křížek - Praha
LOCATION:Malostranská beseda, Praha
DESCRIPTION:Honza Křížek - Praha - Malostranská beseda, Praha
END:VEVENT
END:VCALENDAR