BEGIN:VCALENDAR
VERSION:2.0
CALSCALE:GREGORIAN
METHOD:PUBLISH
PRODID:-//CSMusic.cz//Akce//EN
BEGIN:VEVENT
UID:akce_69ec7fa4db6612.61558654
DTSTAMP:20260425T104732
DTSTART:20250614T000000
DTEND:20250614T000000
SUMMARY:Chinaski - Brno
LOCATION:Velodrom, Brno
DESCRIPTION:Chinaski - Brno - Velodrom, Brno
END:VEVENT
END:VCALENDAR