BEGIN:VCALENDAR
VERSION:2.0
CALSCALE:GREGORIAN
METHOD:PUBLISH
PRODID:-//CSMusic.cz//Akce//EN
BEGIN:VEVENT
UID:akce_69ecac151b80c0.65139660
DTSTAMP:20260425T135709
DTSTART:20240923T000000
DTEND:20240923T000000
SUMMARY:U-Bahn - Nebe pod Berlínem - Brno
LOCATION:Kabinet MÚZ, Brno
DESCRIPTION:U-Bahn - Nebe pod Berlínem - Brno - Kabinet MÚZ, Brno
END:VEVENT
END:VCALENDAR