BEGIN:VCALENDAR
VERSION:2.0
CALSCALE:GREGORIAN
METHOD:PUBLISH
PRODID:-//CSMusic.cz//Akce//EN
BEGIN:VEVENT
UID:akce_69ecfd9f917a96.11679085
DTSTAMP:20260425T194503
DTSTART:20241102T000000
DTEND:20241102T000000
SUMMARY:Barbora Mochowa - Tour 2024 - Opava
LOCATION:Klub Art, Opava
DESCRIPTION:Barbora Mochowa - Tour 2024 - Opava - Klub Art, Opava
END:VEVENT
END:VCALENDAR