BEGIN:VCALENDAR
VERSION:2.0
CALSCALE:GREGORIAN
METHOD:PUBLISH
PRODID:-//CSMusic.cz//Akce//EN
BEGIN:VEVENT
UID:akce_69ed212f6a7075.14666411
DTSTAMP:20260425T221647
DTSTART:20260425T000000
DTEND:20260425T000000
SUMMARY:November 2nd - Bučovice
LOCATION:Hoodbar, Bučovice
DESCRIPTION:November 2nd - Bučovice - Hoodbar, Bučovice
END:VEVENT
END:VCALENDAR