BEGIN:VCALENDAR
VERSION:2.0
CALSCALE:GREGORIAN
METHOD:PUBLISH
PRODID:-//CSMusic.cz//Akce//EN
BEGIN:VEVENT
UID:akce_69ed22465c81b4.97103261
DTSTAMP:20260425T222126
DTSTART:20260425T000000
DTEND:20260425T000000
SUMMARY:Mňága a Žďorp - Frýdek-Místek
LOCATION:Stoun, Frýdek-Místek
DESCRIPTION:Mňága a Žďorp - Frýdek-Místek - Stoun, Frýdek-Místek
END:VEVENT
END:VCALENDAR